BEGIN:VCALENDAR
BEGIN:VEVENT
SUMMARY:Sir Richard Bishop\, Ryley Walker [nycnoise]
DTSTART:20250923T233000Z
DTEND:20250924T003000Z
UID:a5f5f920-6903-4d57-83c3-bb177ffb4d60
CREATED:20260420T163319Z
DESCRIPTION:7pm doors
LOCATION:union pool (484 union ave\, brooklyn)
END:VEVENT
END:VCALENDAR
