BEGIN:VCALENDAR
BEGIN:VEVENT
SUMMARY:Bitchin Bajas\, Night #2/2 [nycnoise]
DTSTART:20251212T003000Z
DTEND:20251212T013000Z
UID:d702a81f-04e9-44ac-99a7-62a301387656
CREATED:20260425T184113Z
DESCRIPTION:7pm doors
LOCATION:union pool (484 union ave\, brooklyn)
END:VEVENT
END:VCALENDAR
