BEGIN:VCALENDAR
BEGIN:VEVENT
SUMMARY:Tammen presents The Geometry of Resonance: Bob Bellerue\, Melinda 
 Faylor\, Hans Tammen & Shoko Nagai [nycnoise]
DTSTART:20250928T200000Z
DTEND:20250928T210000Z
UID:6fcc1df6-2b35-4654-b910-783ca615a063
CREATED:20260420T163135Z
DESCRIPTION:
LOCATION:mise-en_place (45 St Nicholas Ave\, New York\, NY 10026)
END:VEVENT
END:VCALENDAR
