BEGIN:VCALENDAR
BEGIN:VEVENT
SUMMARY:Gordon Beeferman Duets (w/ Stephanie Griffin\, Susan Hefner\, Char
 lotte Jackson\, Dafna Naphtali) [nycnoise]
DTSTART:20250905T233000Z
DTEND:20250906T003000Z
UID:c8405d70-f22c-4986-905b-9b21a26174ba
CREATED:20260420T163321Z
DESCRIPTION:
LOCATION:mise-en_place (45 St Nicholas Ave\, New York\, NY 10026)
END:VEVENT
END:VCALENDAR
