BEGIN:VCALENDAR
BEGIN:VEVENT
SUMMARY:breath-activated futures: Dafna Naphtali (w/ Jen Baker\, Gordon Be
 eferman\, Sara Schoenbeck) [nycnoise]
DTSTART:20251115T003000Z
DTEND:20251115T013000Z
UID:6a2c903e-f4ca-48fe-91ae-63d28bb270ff
CREATED:20260425T203828Z
DESCRIPTION:
LOCATION:mise-en_place (45 St Nicholas Ave\, New York\, NY 10026)
END:VEVENT
END:VCALENDAR
