BEGIN:VCALENDAR
BEGIN:VEVENT
SUMMARY:Swoonfest\, Night #1/2: TAK Ensemble & Qiujiang Levi Lu\, Rage Tho
 rmbones\, gushes (Jennae Santos)\, Blasé [nycnoise]
DTSTART:20250912T223000Z
DTEND:20250912T233000Z
UID:b62b4b69-3372-4107-a4b6-3b111adcbbf9
CREATED:20260420T163249Z
DESCRIPTION:🌀 notaflof\, email if price is barrier\; RT: Weston &amp\; 
 Mattie\; Blas&eacute\;: Shara Lunon\, Richard Toomer\, Kirk Podell\, Aaron
  Smith 🅙
LOCATION:dimenna center (450 w. 37th st.\, manhattan)
END:VEVENT
END:VCALENDAR
