BEGIN:VCALENDAR
BEGIN:VEVENT
SUMMARY:Soft Moon Sounds: Eternal Oyster\, Shara Lunon\, Moon Davé\, Kwam
 i Winfield [nycnoise]
DTSTART:20250829T220000Z
DTEND:20250829T230000Z
UID:a9eb76d7-b663-4496-8c49-749deaa996a8
CREATED:20260420T145251Z
DESCRIPTION:
LOCATION:6bc botanical garden (624 e. 6th st. (between ave b & c)\, manhat
 tan)
END:VEVENT
END:VCALENDAR
