BEGIN:VCALENDAR
BEGIN:VEVENT
SUMMARY:Outlier Presents: Phase to Phase (Katie Porter\, Sean Meehan\, Spe
 cial Guest)\, Brandon Lopez & Mat Maneri [nycnoise]
DTSTART:20250922T000000Z
DTEND:20250922T010000Z
UID:0172afa5-0878-4f66-bf6c-83118aafb63b
CREATED:20260420T163339Z
DESCRIPTION:7:30pm doors\, link to flyer
LOCATION:p.i.t. (property is theft) (411 s. 5th st.\, brooklyn)
END:VEVENT
END:VCALENDAR
