BEGIN:VCALENDAR
BEGIN:VEVENT
SUMMARY:Outlier Presents: The Ghost (ft. Zach Rowden)\, Brandon Lopez / He
 ry Paz / Holman Alvarez / Whit Dickey [nycnoise]
DTSTART:20251006T000000Z
DTEND:20251006T010000Z
UID:475e084b-e593-4f1a-9e7a-1a72ecd526e5
CREATED:20260420T145503Z
DESCRIPTION:7:30pm doors\, listing time from flyer\; The Ghost: Michael Fo
 ster\, John Moran\, Joey Sullivan (ft. ZR)
LOCATION:p.i.t. (property is theft) (411 s. 5th st.\, brooklyn)
END:VEVENT
END:VCALENDAR
