BEGIN:VCALENDAR
BEGIN:VEVENT
SUMMARY:Saint Vitus presents: Youth Code\, King Yosef\, Street Sects\, Ins
 ula Iscariot [nycnoise]
DTSTART:20250827T220000Z
DTEND:20250827T230000Z
UID:9e1a7fdd-95a5-4d85-88a4-e0456827edd3
CREATED:20260420T145557Z
DESCRIPTION:
LOCATION:meadows (17 meadow st.\, brooklyn)
END:VEVENT
END:VCALENDAR
