BEGIN:VCALENDAR
BEGIN:VEVENT
SUMMARY:Life\, Destruct\, No Fucker\, Kaleidoscope\, Nisemono\, Watchlist 
 [nycnoise]
DTSTART:20250827T230000Z
DTEND:20250828T000000Z
UID:916f369a-16c5-4705-ad15-7afc321c8a3e
CREATED:20260420T145242Z
DESCRIPTION:
LOCATION:tv eye (1647 Weirfield St\, Ridgewood\, NY 11385)
END:VEVENT
END:VCALENDAR
