BEGIN:VCALENDAR
BEGIN:VEVENT
SUMMARY:TLIOF Grunge Party: The Library is On Fire\, Lost Boy?\, Umiris\, 
 Cometa Negra\, Moderate Rock [nycnoise]
DTSTART:20250905T220000Z
DTEND:20250905T230000Z
UID:b4b06c99-2f0f-4cce-b241-c2a4f09d667f
CREATED:20260420T163340Z
DESCRIPTION:+ DJ Michael Bauer &amp\; vendors: Empress Eats\, Sol Bee &amp
 \; Folklore Bohemian tattoing\, cuffed.ny\, stonedapparitions
LOCATION:rubulad
END:VEVENT
END:VCALENDAR
