BEGIN:VCALENDAR
BEGIN:VEVENT
SUMMARY:BORBS x Shinya Lin: 'Songs from an Overgrown Utopia' [nycnoise]
DTSTART:20250920T233000Z
DTEND:20250921T003000Z
UID:bb1e50f4-eb41-48c1-a40c-a92d28ec535e
CREATED:20260420T163233Z
DESCRIPTION:BORBS: ​Aaron Pond\, Max Englemen\, ​Andrew Gioanetti\, 
 ​Jessica Brown\; i thiiiink start is 8pm
LOCATION:reforesters laboratory (147 Metropolitan Ave\, Brooklyn\, NY 1124
 9)
END:VEVENT
END:VCALENDAR
