BEGIN:VCALENDAR
BEGIN:VEVENT
SUMMARY:One Year on Earth(ly) :: An Otherworldly Anniversary & Farewell Ce
 lebration\, Day #2/3 [nycnoise]
DTSTART:20250830T180000Z
DTEND:20250830T190000Z
UID:f4ded9ad-f46b-4039-9ffa-c41fc7b87aa4
CREATED:20260420T145352Z
DESCRIPTION:DJ girlcrush\, Florence Cecile\, DJ Houseplants\, Vega Beats\,
  menofilter\, Nick Boyd (Sorry Records)\, sola system (SLICK DOWN)\, Kate 
 Stein (99FVR)\, 4AM NYC\, Gigi Rio\, Morphism b3b (Aanandi\, Cyber Imp\, V
 inton Surf)\, DBL_BBL (live)
LOCATION:[RIP] earthly delights (5738 Myrtle Ave\, Ridgewood\, NY 11385)
END:VEVENT
END:VCALENDAR
