BEGIN:VCALENDAR
BEGIN:VEVENT
SUMMARY:FAREWELL EARTHLY!!!: One Year on Earth(ly) :: An Otherworldly Anni
 versary & Farewell Celebration\, Day #3/3 [nycnoise]
DTSTART:20250831T180000Z
DTEND:20250831T190000Z
UID:84105207-8f98-491c-8023-ab5ba37d7594
CREATED:20260420T145159Z
DESCRIPTION:Kristen London\, CMD+Jazmine\, BYLD\, Valentin Lamar\, Garriso
 n XR\, ALI IRL\, Ben Zo b2b David Lunch\, Janus Rose\, Aria Pash b2b Lilli
  Winter\, Sheepshead\, Serrian\, Toribio\, LITA DA DOLL\, DJ Bark Lee\, EM
 MALINE\, Planet B\, Corazon De Melon\, Kandylion\, DJ Shannon
LOCATION:[RIP] earthly delights (5738 Myrtle Ave\, Ridgewood\, NY 11385)
END:VEVENT
END:VCALENDAR
