BEGIN:VCALENDAR
BEGIN:VEVENT
SUMMARY:FAREWELL EARTHLY!!!: One Year on Earth(ly) :: An Otherworldly Anni
 versary & Farewell Celebration [nycnoise]
DTSTART:20250901T040100Z
DTEND:20250901T050100Z
UID:8ac176a1-d9d7-4eac-a04f-12c5430ec119
CREATED:20260420T163504Z
DESCRIPTION:[12am monday] Serrian\, Toribio\, LITA DA DOLL\, DJ Bark Lee\,
  EMMALINE\, Planet B\, Corazon De Melon\, Kandylion\, DJ Shannon
LOCATION:[RIP] earthly delights (5738 Myrtle Ave\, Ridgewood\, NY 11385)
END:VEVENT
END:VCALENDAR
