BEGIN:VCALENDAR
BEGIN:VEVENT
SUMMARY:Bruiser & Bicycle\, Wiring\, Marblemouth\, People I Love [nycnoise
 ]
DTSTART:20250830T230000Z
DTEND:20250831T000000Z
UID:49258843-547e-4502-8c8e-951cf6e13683
CREATED:20260420T145336Z
DESCRIPTION:
LOCATION:purgatory (675 central ave\, brooklyn)
END:VEVENT
END:VCALENDAR
