BEGIN:VCALENDAR
BEGIN:VEVENT
SUMMARY:Beach Party in Hell: Tetchy\, Big Girl\, Certain Death [nycnoise]
DTSTART:20250830T210000Z
DTEND:20250830T220000Z
UID:311b2fcc-7afa-4119-88e5-977f6f48e2d9
CREATED:20260420T145423Z
DESCRIPTION:
LOCATION:rippers (8601 shore front pkwy\, rockaway beach)
END:VEVENT
END:VCALENDAR
