BEGIN:VCALENDAR
BEGIN:VEVENT
SUMMARY:WTCHCRFT (Video Premiere)\, acidbrunch\, KC\, tyler.xls [nycnoise]
DTSTART:20250831T023000Z
DTEND:20250831T033000Z
UID:8e6c4625-adf5-4882-8af2-eabcce63c5fd
CREATED:20260420T144752Z
DESCRIPTION:
LOCATION:sleepwalk (251 bushwick ave\, brooklyn)
END:VEVENT
END:VCALENDAR
