BEGIN:VCALENDAR
BEGIN:VEVENT
SUMMARY:Ora Cogan\, Tasha\, Umer Piracha [nycnoise]
DTSTART:20250902T230000Z
DTEND:20250903T000000Z
UID:9040194d-5f98-42b1-90e3-0f910e2fc8f2
CREATED:20260420T163504Z
DESCRIPTION:
LOCATION:elsewhere roof (599 johnson ave\, brooklyn)
END:VEVENT
END:VCALENDAR
