BEGIN:VCALENDAR
BEGIN:VEVENT
SUMMARY:Adi\, s.3.r.\, Carlos Truly [nycnoise]
DTSTART:20250903T010000Z
DTEND:20250903T020000Z
UID:1726487e-ab9a-487b-bb24-9b8c375dabe9
CREATED:20260420T163138Z
DESCRIPTION:8pm doors
LOCATION:purgatory (675 central ave\, brooklyn)
END:VEVENT
END:VCALENDAR
