BEGIN:VCALENDAR
BEGIN:VEVENT
SUMMARY:B|_ank\, Tomato Flower\, Watching Planes I Touch Myself\, Ada Inte
 ractive [nycnoise]
DTSTART:20250925T000000Z
DTEND:20250925T010000Z
UID:fd352cb8-b4fa-45b1-a3db-93ba34d3b64f
CREATED:20260420T163128Z
DESCRIPTION:
LOCATION:purgatory (675 central ave\, brooklyn)
END:VEVENT
END:VCALENDAR
