BEGIN:VCALENDAR
BEGIN:VEVENT
SUMMARY:Dot Dash presents: Blank Account\, Nape Neck\, Editrix [nycnoise]
DTSTART:20250919T003000Z
DTEND:20250919T013000Z
UID:23982c87-47e8-4485-9216-a86fa3ed2008
CREATED:20260420T163318Z
DESCRIPTION:7:30pm doors
LOCATION:hart bar (538 hart st.\, brooklyn)
END:VEVENT
END:VCALENDAR
