BEGIN:VCALENDAR
BEGIN:VEVENT
SUMMARY:Lea Bertucci\, Zach Layton\, MV Carbon [nycnoise]
DTSTART:20250906T233000Z
DTEND:20250907T003000Z
UID:09e865d7-bbbf-4df1-920c-6ff071af4566
CREATED:20260420T163250Z
DESCRIPTION:
LOCATION:cassette (68-38 forest ave bsmt\, ridgewood)
END:VEVENT
END:VCALENDAR
