BEGIN:VCALENDAR
BEGIN:VEVENT
SUMMARY:Good Morning\, Shepherd!\, Saint Remy\, Provider [nycnoise]
DTSTART:20250902T000000Z
DTEND:20250902T010000Z
UID:94179f4a-8c0c-4faa-9000-3a71fc5b7054
CREATED:20260420T163252Z
DESCRIPTION:"We&rsquo\;re just gonna play some weird sad art songs:)"
LOCATION:purgatory (675 central ave\, brooklyn)
END:VEVENT
END:VCALENDAR
