BEGIN:VCALENDAR
BEGIN:VEVENT
SUMMARY:Imal Gnawa [nycnoise]
DTSTART:20250902T230000Z
DTEND:20250903T000000Z
UID:7a6152ef-16e4-4a48-9423-8da77d285c08
CREATED:20260420T163135Z
DESCRIPTION:🌀 notaflof work trade
LOCATION:light & sound design
END:VEVENT
END:VCALENDAR
