BEGIN:VCALENDAR
BEGIN:VEVENT
SUMMARY:Fiber Vol. 11: fuge b2b Fedra\, Plebeian (live)\, Sobolik [nycnois
 e]
DTSTART:20250906T220000Z
DTEND:20250906T230000Z
UID:ebf401fb-a594-458f-b3dc-b42921845a14
CREATED:20260420T163251Z
DESCRIPTION:🌀 notaflof work trade
LOCATION:light & sound design
END:VEVENT
END:VCALENDAR
