BEGIN:VCALENDAR
BEGIN:VEVENT
SUMMARY:DAWSHA: 8ULENTINA\, Mohamed (live)\, S!NA [nycnoise]
DTSTART:20250917T230000Z
DTEND:20250918T000000Z
UID:b3c0a02e-a410-45af-8708-1e67bf393e92
CREATED:20260420T163248Z
DESCRIPTION:🌀 notaflof work trade\; "homemade food with proceeds donate
 d to The Sameer Project" + DJs Against Apartheid + kinda cute bakery
LOCATION:light & sound design
END:VEVENT
END:VCALENDAR
