BEGIN:VCALENDAR
BEGIN:VEVENT
SUMMARY:Zen / Echo vol. 7: mr.cruz (DJ)\, Eric Hoegemeyer (live)\, Yusuke 
 Yamamoto (live)\, Marihito (DJ) [nycnoise]
DTSTART:20250920T000000Z
DTEND:20250920T010000Z
UID:711a6c8b-ed35-4e82-9107-c06a889bebab
CREATED:20260420T163231Z
DESCRIPTION:🌀 notaflof work trade
LOCATION:light & sound design
END:VEVENT
END:VCALENDAR
