BEGIN:VCALENDAR
BEGIN:VEVENT
SUMMARY:Weird Science: Reymour (live)\, Joshua Cordova\, The Spiral (live)
  [nycnoise]
DTSTART:20250928T230000Z
DTEND:20250929T000000Z
UID:ff471d7b-a3df-4651-8476-ef3d2ca9a552
CREATED:20260420T163318Z
DESCRIPTION:🌀 notaflof work trade
LOCATION:light & sound design
END:VEVENT
END:VCALENDAR
