BEGIN:VCALENDAR
BEGIN:VEVENT
SUMMARY:TBA [nycnoise]
DTSTART:20251030T230000Z
DTEND:20251031T000000Z
UID:ca2fe699-13e6-487c-b980-84be25587a3a
CREATED:20260420T145348Z
DESCRIPTION:lineup asap
LOCATION:dada (6047 Myrtle Ave\, Queens\, NY 11385)
END:VEVENT
END:VCALENDAR
