BEGIN:VCALENDAR
BEGIN:VEVENT
SUMMARY:Low Intervention: NTHNL\, AC Wallace\, Spiral Eddie (DJ) [nycnoise
 ]
DTSTART:20250926T233000Z
DTEND:20250927T003000Z
UID:1769a4ac-afcf-4e15-88b7-4f963deba741
CREATED:20260420T163135Z
DESCRIPTION:curated by Annie Garlid
LOCATION:dada (6047 Myrtle Ave\, Queens\, NY 11385)
END:VEVENT
END:VCALENDAR
