BEGIN:VCALENDAR
BEGIN:VEVENT
SUMMARY:Daniel Kleederman\, Lip Talk\, Grassfed Kal [nycnoise]
DTSTART:20250912T000000Z
DTEND:20250912T010000Z
UID:e6268156-7f48-4e51-bdb4-3c923245bf08
CREATED:20260420T163138Z
DESCRIPTION:7:30pm doors
LOCATION:owl (497 rogers ave\, brooklyn)
END:VEVENT
END:VCALENDAR
