BEGIN:VCALENDAR
BEGIN:VEVENT
SUMMARY:Leila Adu\, Ali Dineen\, Stephanie Niles [nycnoise]
DTSTART:20250913T000000Z
DTEND:20250913T010000Z
UID:5571d350-f468-4594-ad4a-c154a6ef2071
CREATED:20260420T163207Z
DESCRIPTION:7:30pm doors
LOCATION:owl (497 rogers ave\, brooklyn)
END:VEVENT
END:VCALENDAR
