BEGIN:VCALENDAR
BEGIN:VEVENT
SUMMARY:Luke Bergman\, Jamie Saft Trio [nycnoise]
DTSTART:20250918T000000Z
DTEND:20250918T010000Z
UID:c967bf82-ca58-4082-9815-0f5b489a94b8
CREATED:20260420T163209Z
DESCRIPTION:7:30pm doors
LOCATION:owl (497 rogers ave\, brooklyn)
END:VEVENT
END:VCALENDAR
