BEGIN:VCALENDAR
BEGIN:VEVENT
SUMMARY:Fashion Noise Showcase: Danny Tantrum\, VORA\, N!TR0\, Evilo\, Bif
 a01\, Beau Mahadev [nycnoise]
DTSTART:20250915T230000Z
DTEND:20250916T000000Z
UID:7c573bd9-87ed-46ef-9ed3-fbf52d49efed
CREATED:20260420T163210Z
DESCRIPTION:"NOISE FASHION INSTALLATION - COMMUNITY DINNER EVENT - GABBER 
 DJ &amp\; HARDWARE AFTERS"
LOCATION:living gallery (1094 broadway\, brooklyn)
END:VEVENT
END:VCALENDAR
