BEGIN:VCALENDAR
BEGIN:VEVENT
SUMMARY:FRINGE Records Presents: Terror Cell Unit\, Infinexhuma\, Threat o
 f Innocence\, Home is the Void\, Parasite Nurse [nycnoise]
DTSTART:20250909T220000Z
DTEND:20250909T230000Z
UID:a642b025-725c-4048-b770-3b19f78cc264
CREATED:20260420T163322Z
DESCRIPTION:(both intercomm &amp\; fringe are PACBI\, join 'em)
LOCATION:intercomm (584 Woodward Ave\, Ridgewood\, NY 11385)
END:VEVENT
END:VCALENDAR
