BEGIN:VCALENDAR
BEGIN:VEVENT
SUMMARY:Arien Wilkerson / TNMOT AZTRO solo show [nycnoise]
DTSTART:20250913T230000Z
DTEND:20250914T000000Z
UID:9ada25b3-07ca-4e1d-9996-2f62e0b45f16
CREATED:20260420T163339Z
DESCRIPTION:
LOCATION:intercomm (584 Woodward Ave\, Ridgewood\, NY 11385)
END:VEVENT
END:VCALENDAR
