BEGIN:VCALENDAR
BEGIN:VEVENT
SUMMARY:Second Sunday Sound Bath: Josi Arias [nycnoise]
DTSTART:20250914T230000Z
DTEND:20250915T000000Z
UID:288ff16f-b47c-4a9c-92e4-8de79121507c
CREATED:20260420T163250Z
DESCRIPTION:"guided meditation &amp\; vibrational healing Led By Josi Aria
 s (bring you own mat)"
LOCATION:intercomm (584 Woodward Ave\, Ridgewood\, NY 11385)
END:VEVENT
END:VCALENDAR
