BEGIN:VCALENDAR
BEGIN:VEVENT
SUMMARY:midiWORLDlive: Unity Garnish\, Uriel\, Weedwacker\, Dasychira [nyc
 noise]
DTSTART:20250926T230000Z
DTEND:20250927T000000Z
UID:9424d457-82d0-4e3b-b6e8-bb211acd5034
CREATED:20260420T163318Z
DESCRIPTION:
LOCATION:intercomm (584 Woodward Ave\, Ridgewood\, NY 11385)
END:VEVENT
END:VCALENDAR
