BEGIN:VCALENDAR
BEGIN:VEVENT
SUMMARY:The Fountain presents: Alexandra Lily's 'The Fountain #2: Time Loo
 p' [nycnoise]
DTSTART:20250927T230000Z
DTEND:20250928T000000Z
UID:59dcf566-5cad-4d92-8063-a32cc9cbb45a
CREATED:20260420T163319Z
DESCRIPTION:
LOCATION:intercomm (584 Woodward Ave\, Ridgewood\, NY 11385)
END:VEVENT
END:VCALENDAR
