BEGIN:VCALENDAR
BEGIN:VEVENT
SUMMARY:Gian Perez & TBA\, Samantha Kochis / Rocio Sanchez / Stefano Grass
 o [nycnoise]
DTSTART:20250905T220000Z
DTEND:20250905T230000Z
UID:23ab0cc3-15b0-48ed-9d7b-e2cca0493360
CREATED:20260420T163249Z
DESCRIPTION:
LOCATION:p.i.t. (property is theft) (411 s. 5th st.\, brooklyn)
END:VEVENT
END:VCALENDAR
