BEGIN:VCALENDAR
BEGIN:VEVENT
SUMMARY:Talon\, Jenny Alien\, First President of Japan\, Joey The Woman [n
 ycnoise]
DTSTART:20250926T230000Z
DTEND:20250927T000000Z
UID:b3845fc3-415e-427b-9fb5-88bb8aad6748
CREATED:20260420T163137Z
DESCRIPTION:
LOCATION:alphaville (140 wilson ave\, brooklyn)
END:VEVENT
END:VCALENDAR
