BEGIN:VCALENDAR
BEGIN:VEVENT
SUMMARY:DMG Free Tues: Patrick Golden / Matt Hollenberg / Rick Parker\, Da
 ve Miller\, Johnny Butler & Alex Oliva [nycnoise]
DTSTART:20250909T223000Z
DTEND:20250909T233000Z
UID:f9384975-c458-47e1-bc1b-132393c8fa4c
CREATED:20260420T163135Z
DESCRIPTION:
LOCATION:downtown music gallery (13 monroe st.\, manhattan)
END:VEVENT
END:VCALENDAR
