BEGIN:VCALENDAR
BEGIN:VEVENT
SUMMARY:The Instrumental Underground: Alvaro Torres & Cooper-Moore\, Dred 
 Scott & James Paul Nadien\, Jeff Pearring / Shu Odamura / Adam Lane / Paul
  Sakai [nycnoise]
DTSTART:20250920T230000Z
DTEND:20250921T000000Z
UID:7ac0949b-1bfa-4958-bdd0-dc2885be15b9
CREATED:20260420T163129Z
DESCRIPTION:
LOCATION:ibeam (168 7th st.\, brooklyn)
END:VEVENT
END:VCALENDAR
