BEGIN:VCALENDAR
BEGIN:VEVENT
SUMMARY:If[\,] Bwana (Al Margolis)\, Gobby [nycnoise]
DTSTART:20250904T233000Z
DTEND:20250905T003000Z
UID:b37ce13c-5c9f-4ba5-9c1b-efb8590312f0
CREATED:20260420T163505Z
DESCRIPTION:7pm doors
LOCATION:blank forms (1d) (468 grand ave #1d\, brooklyn)
END:VEVENT
END:VCALENDAR
