BEGIN:VCALENDAR
BEGIN:VEVENT
SUMMARY:Jessika Kenney / Eyvind Kang / Keir GoGwilt / Celeste Oram [nycnoi
 se]
DTSTART:20250914T183000Z
DTEND:20250914T193000Z
UID:13f7fb8c-2707-4c6d-adf2-eb6c498f0e33
CREATED:20260420T163137Z
DESCRIPTION:2pm doors
LOCATION:blank forms (1d) (468 grand ave #1d\, brooklyn)
END:VEVENT
END:VCALENDAR
