BEGIN:VCALENDAR
BEGIN:VEVENT
SUMMARY:Stereo Mandrax: Masaaki\, Lary7 + AMokuno\, Kieran Daly [nycnoise]
DTSTART:20250914T230000Z
DTEND:20250915T000000Z
UID:498523d1-e497-4bfe-9e8f-6a16eaabea65
CREATED:20260420T163137Z
DESCRIPTION:DJ sets by RDMayson\, Frivaldi\; 雅秋 Masaaki: Aki Goto &amp
 \; Masami Tomihisa
LOCATION:pianos (158 Ludlow St\, New York\, NY 10002)
END:VEVENT
END:VCALENDAR
