BEGIN:VCALENDAR
BEGIN:VEVENT
SUMMARY:Brandon Seabrook\, Nava Dunkelman & Chuck Bettis [nycnoise]
DTSTART:20250913T000000Z
DTEND:20250913T010000Z
UID:8589a010-d29c-457a-a667-2cefc5bb302c
CREATED:20260420T163207Z
DESCRIPTION:
LOCATION:lava club
END:VEVENT
END:VCALENDAR
