BEGIN:VCALENDAR
BEGIN:VEVENT
SUMMARY:Noise Picnic 15: munt cascade\, eighty-pound pug\, Jerry Lim\, Mar
 cia Bassett [nycnoise]
DTSTART:20250913T180000Z
DTEND:20250913T190000Z
UID:a59f67b9-ca21-4085-b53a-efcf5f168851
CREATED:20260420T163343Z
DESCRIPTION:1pm hang
LOCATION:nethermead noise arch (Brooklyn\, NY 11225)
END:VEVENT
END:VCALENDAR
